BEGIN:VCALENDAR
VERSION:2.0
PRODID:-//Squarespace Inc/Squarespace 6//v6//EN
BEGIN:VEVENT
UID:5cee2555e79c70c34b11279e@squarespace.com
DTSTAMP:20191021T055510Z
DTSTART:20191023T130000Z
DTEND:20191024T210000Z
SUMMARY:All-Energy Australia 2019
GEO:-37.813628;144.963058
LOCATION:Melbourne Convention and Exhibition Centre\, Melbourne\, Australia
END:VEVENT
END:VCALENDAR
